BEGIN:VCALENDAR
VERSION:2.0
PRODID:-//Club Aeromodelisme Calella-Maçanet - ECPv6.6.4.2//NONSGML v1.0//EN
CALSCALE:GREGORIAN
METHOD:PUBLISH
X-WR-CALNAME:Club Aeromodelisme Calella-Maçanet
X-ORIGINAL-URL:https://aeromodelismecalella.com
X-WR-CALDESC:Eventos para Club Aeromodelisme Calella-Maçanet
REFRESH-INTERVAL;VALUE=DURATION:PT1H
X-Robots-Tag:noindex
X-PUBLISHED-TTL:PT1H
BEGIN:VTIMEZONE
TZID:UTC
BEGIN:STANDARD
TZOFFSETFROM:+0000
TZOFFSETTO:+0000
TZNAME:UTC
DTSTART:20240101T000000
END:STANDARD
END:VTIMEZONE
BEGIN:VEVENT
DTSTART;TZID=UTC:20240921T080000
DTEND;TZID=UTC:20240921T130000
DTSTAMP:20260422T213506
CREATED:20240918T060140Z
LAST-MODIFIED:20240918T060140Z
UID:234-1726905600-1726923600@aeromodelismecalella.com
SUMMARY:5ª prueba Lliga Catalana PilonRacer F3E y F3D
DESCRIPTION:El 21 de septiembre tienes una cita! Se dará lugar la 5ª prueba de la Pilón Racer (categoría F3E y F3D) organizada por la Federació Aèria Catalana en las instalaciones del club de aeronàutic EGARA (Terrassa). Esta será la antepenúltima prueba antes de la final de la Liga Catalana\, que se disputará en diciembre en nuestras instalaciones de Maçanet de la Selva.\n\n \n\nDel Club Aeromodelisme Calella-Maçanet se espera la participación de los socios Josep Juanhuix y Robert Flores. ¡Les deseamos mucha suerte!\n\n \n\nDirección: Club Aeronàutic Egara Avenida de Can Boada\, s/n\, 08225 Terrassa\, Barcelona\, España
URL:https://aeromodelismecalella.com/event/5a-prueba-lliga-catalana-pilonracer-f3e-y-f3d/
LOCATION:Club Aeronàutic EGARA\, Avenida de Can Boada\, s/n\, Terrassa\, Barcelona\, 08225
END:VEVENT
END:VCALENDAR