BEGIN:VCALENDAR
VERSION:2.0
PRODID:-//Club Aeromodelisme Calella-Maçanet - ECPv6.6.4.2//NONSGML v1.0//EN
CALSCALE:GREGORIAN
METHOD:PUBLISH
X-WR-CALNAME:Club Aeromodelisme Calella-Maçanet
X-ORIGINAL-URL:https://aeromodelismecalella.com
X-WR-CALDESC:Eventos para Club Aeromodelisme Calella-Maçanet
REFRESH-INTERVAL;VALUE=DURATION:PT1H
X-Robots-Tag:noindex
X-PUBLISHED-TTL:PT1H
BEGIN:VTIMEZONE
TZID:UTC
BEGIN:STANDARD
TZOFFSETFROM:+0000
TZOFFSETTO:+0000
TZNAME:UTC
DTSTART:20250101T000000
END:STANDARD
END:VTIMEZONE
BEGIN:VEVENT
DTSTART;TZID=UTC:20250928T093000
DTEND;TZID=UTC:20250928T123000
DTSTAMP:20260420T020506
CREATED:20241223T141935Z
LAST-MODIFIED:20241223T141935Z
UID:313-1759051800-1759062600@aeromodelismecalella.com
SUMMARY:¡Día del zorro y juegos aéreos!
DESCRIPTION:🗓️ Fecha: 28/09/2025\n📍 Lugar: Campo de Vuelo Maçanet de la Selva \n¡Prepárate para un día lleno de emoción y diversión en el aire! Invitamos a todos los socios a participar en nuestra Jornada de Juegos Aéreos\, donde el plato fuerte será la emocionante Caza del Zorro\, junto con actividades diseñadas para poner a prueba tus habilidades y disfrutar al máximo nuestro hobby. \nActividades destacadas\n🦊 Caza del Zorro:\nEl desafío principal del día. Un avión hará las veces de «zorro» llevando una cinta como lastre\, ¡y el objetivo será cortarla con las hélices de tu avión! Un juego de agilidad\, estrategia y mucha adrenalina. \n🛩️ Ugly Stick Day:\nTrae tu Ugly Stick (o cualquier otro modelo similar). ¡Queremos batir de nuevo nuestro propio record de 16 Ugly Sticks volando a la vez! \n🎯 Aterrizajes de precisión:\nDemuestra tu destreza como piloto tocando tierra en el punto exacto designado. ¡La precisión lo es todo! \n🏆 Desafío del Limbo:\n¿Tu avión puede pasar bajo la barra sin tocarla? Veamos hasta dónde llega tu control y destreza. \n🌟 Vuelos libres:\nTendremos tiempo para disfrutar de vuelos libres\, mostrar nuestras últimas adquisiciones y aprender unos de otros. \nDetalles del evento\n⏰ Horario: De 09:30h a 12:30h\n🎟️ Evento exclusivo para socios y amigos con licencia FAC activa. \nRecomendaciones \n\nAsegúrate de traer tus modelos en perfectas condiciones para participar en las actividades.\nSi necesitas ayuda con algún ajuste o calibración\, nuestros socios más experimentados estarán disponibles para echarte una mano.\n¡No olvides tu espíritu competitivo y tus ganas de divertirte!\n\n¡Te esperamos para un día lleno de emoción\, risas y muchas alas en el cielo! 🛩️ \nPara más información\, contáctanos en clubaeromodelismecalella@gmail.com
URL:https://aeromodelismecalella.com/event/dia-del-zorro-y-juegos-aereos/
LOCATION:Club Aeromodelisme Calella-Maçanet\, Maçanet de la Selva\, Girona
ORGANIZER;CN="Club Aeromodelisme Calella-Ma%C3%A7anet":MAILTO:clubaeromodelismecalella@gmail.com
END:VEVENT
END:VCALENDAR