BEGIN:VCALENDAR
VERSION:2.0
PRODID:-//Club Aeromodelisme Calella-Maçanet - ECPv6.6.4.2//NONSGML v1.0//EN
CALSCALE:GREGORIAN
METHOD:PUBLISH
X-WR-CALNAME:Club Aeromodelisme Calella-Maçanet
X-ORIGINAL-URL:https://aeromodelismecalella.com
X-WR-CALDESC:Eventos para Club Aeromodelisme Calella-Maçanet
REFRESH-INTERVAL;VALUE=DURATION:PT1H
X-Robots-Tag:noindex
X-PUBLISHED-TTL:PT1H
BEGIN:VTIMEZONE
TZID:UTC
BEGIN:STANDARD
TZOFFSETFROM:+0000
TZOFFSETTO:+0000
TZNAME:UTC
DTSTART:20260101T000000
END:STANDARD
END:VTIMEZONE
BEGIN:VEVENT
DTSTART;TZID=UTC:20260208T100000
DTEND;TZID=UTC:20260208T233000
DTSTAMP:20260419T184022
CREATED:20241223T140730Z
LAST-MODIFIED:20251206T122923Z
UID:306-1770544800-1770593400@aeromodelismecalella.com
SUMMARY:Jornada formativa - Uso del FailSafe y entorno de seguridad
DESCRIPTION:Como cada año\, el próximo 08/02/2025 se convoca a todos los socios en el campo de vuelo de Maçanet de la Selva para realizar una jornada formativa sobre el uso de los sistemas FailSafe de nuestras emisoras de radio. También se aprovechará para conocer en profundidad el entorno de seguridad y vuelo de nuestro club (zonas restringidas de vuelo\, espacio aéreo\, carta de coordinación del aeropuerto de Girona\, etc). \nPor favor\, es muy importante llevar consigo el manual de vuestra emisora para saber configurar correctamente el FailSafe!
URL:https://aeromodelismecalella.com/event/jornada-formativa-uso-del-failsafe-y-entorno-de-seguridad/
LOCATION:Club Aeromodelisme Calella-Maçanet\, Maçanet de la Selva\, Girona
ORGANIZER;CN="Club Aeromodelisme Calella-Ma%C3%A7anet":MAILTO:clubaeromodelismecalella@gmail.com
END:VEVENT
END:VCALENDAR