BEGIN:VCALENDAR
VERSION:2.0
PRODID:-//Club Aeromodelisme Calella-Maçanet - ECPv6.6.4.2//NONSGML v1.0//EN
CALSCALE:GREGORIAN
METHOD:PUBLISH
X-WR-CALNAME:Club Aeromodelisme Calella-Maçanet
X-ORIGINAL-URL:https://aeromodelismecalella.com
X-WR-CALDESC:Eventos para Club Aeromodelisme Calella-Maçanet
REFRESH-INTERVAL;VALUE=DURATION:PT1H
X-Robots-Tag:noindex
X-PUBLISHED-TTL:PT1H
BEGIN:VTIMEZONE
TZID:UTC
BEGIN:STANDARD
TZOFFSETFROM:+0000
TZOFFSETTO:+0000
TZNAME:UTC
DTSTART:20260101T000000
END:STANDARD
END:VTIMEZONE
BEGIN:VEVENT
DTSTART;TZID=UTC:20260419T093000
DTEND;TZID=UTC:20260419T123000
DTSTAMP:20260419T155231
CREATED:20241223T141458Z
LAST-MODIFIED:20251206T123050Z
UID:311-1776591000-1776601800@aeromodelismecalella.com
SUMMARY:Día del socio 2026
DESCRIPTION:🗓️ Fecha: Domingo\, 19 de abril de 2026\n📍 Lugar: Campo de Vuelo de Maçanet de la Selva \nQueridos socios\,\n¡Marquen sus calendarios! El próximo 19 de abril celebraremos el Día del Socio\, una jornada especial para compartir nuestra pasión por el aeromodelismo\, disfrutar de nuestro hobby y dar a conocer las maravillas de esta actividad en la comunidad. \nActividades del Día del Socio\n\nVuelos en grupo: Llena el cielo de increíbles maniobras con tu modelo favorito.\nDemostraciones especiales: Mostremos juntos las capacidades de nuestras aeronaves y el trabajo en equipo que nos caracteriza.\nZona de iniciación: Tendremos un área para que los curiosos puedan conocer más sobre el aeromodelismo\, con vuelos de exhibición y demostraciones de cómo funciona nuestro hobby.\nEspacio de convivencia: Una jornada no estaría completa sin momentos para charlar\, disfrutar de un buen desayuno y fortalecer los lazos que hacen de nuestro club una gran familia.\n\nObjetivo del Día\nQueremos que este evento sea una oportunidad no solo para disfrutar entre socios\, sino también para que los vecinos y la comunidad cercana conozcan más sobre el apasionante mundo del aeromodelismo. ¡Es el momento perfecto para que inviten a sus familiares y amigos a vernos en acción! \nInformación adicional\n⏰ Horario: De 10:00 a 12:30h\n🎟️ Evento gratuito (Exclusivo para socios y socios de otros clubs que posean licencia FAC\, pero abierto para visitas y espectadores). \n¡No olvides tu avión/helicóptero/drone y tu entusiasmo! Este es el día ideal para compartir nuestra pasión\, mostrar lo que hacemos y continuar promoviendo el amor por el aeromodelismo en nuestra zona. \nPara más información o para colaborar en la organización\, comunícate mediante nuestro correo clubaeromodelismecalella@gmail.com \n¡Nos vemos en el cielo el 19 de abril! 🌤️
URL:https://aeromodelismecalella.com/event/dia-del-socio-2025/
LOCATION:Club Aeromodelisme Calella-Maçanet\, Maçanet de la Selva\, Girona
ORGANIZER;CN="Club Aeromodelisme Calella-Ma%C3%A7anet":MAILTO:clubaeromodelismecalella@gmail.com
END:VEVENT
END:VCALENDAR