BEGIN:VCALENDAR
VERSION:2.0
PRODID:-//Club Aeromodelisme Calella-Maçanet - ECPv6.6.4.2//NONSGML v1.0//EN
CALSCALE:GREGORIAN
METHOD:PUBLISH
X-WR-CALNAME:Club Aeromodelisme Calella-Maçanet
X-ORIGINAL-URL:https://aeromodelismecalella.com
X-WR-CALDESC:Eventos para Club Aeromodelisme Calella-Maçanet
REFRESH-INTERVAL;VALUE=DURATION:PT1H
X-Robots-Tag:noindex
X-PUBLISHED-TTL:PT1H
BEGIN:VTIMEZONE
TZID:UTC
BEGIN:STANDARD
TZOFFSETFROM:+0000
TZOFFSETTO:+0000
TZNAME:UTC
DTSTART:20260101T000000
END:STANDARD
END:VTIMEZONE
BEGIN:VEVENT
DTSTART;TZID=UTC:20261213T080000
DTEND;TZID=UTC:20261213T170000
DTSTAMP:20260420T055531
CREATED:20251206T123416Z
LAST-MODIFIED:20251206T123416Z
UID:389-1797148800-1797181200@aeromodelismecalella.com
SUMMARY:Cursa d'hivern pylon 2026
DESCRIPTION:Como cada año\, no puede faltar nuestra querida carrera pylon! \nSerá el 13 de diciembre en nuestras instalaciones. Independientemente de tu nivel de experiencia\, te animamos a participar! Necesitaremos pilotos\, jueces y cronómetros. \nAdemás\, contaremos con la botifarrada popoular por un módico precio todavía por definir. \nDe la misma forma\, animamos a participar en la liga catalana organizada por la Federació Aèria Catalana a lo largo de diversos clubs de aeromodelismo de nuestro territorio!! \nLink oficial evento FAC: F3E-F3D Pilon Race | Federació Aèria Catalana \nInscripciones: Pendiente de facilitar por la organización.
URL:https://aeromodelismecalella.com/event/cursa-dhivern-pylon-2026/
LOCATION:Club Aeromodelisme Calella-Maçanet\, Maçanet de la Selva\, Girona
ORGANIZER;CN="Club Aeromodelisme Calella-Ma%C3%A7anet":MAILTO:clubaeromodelismecalella@gmail.com
END:VEVENT
END:VCALENDAR