BEGIN:VCALENDAR
VERSION:2.0
PRODID:-//Club Aeromodelisme Calella-Maçanet - ECPv6.6.4.2//NONSGML v1.0//EN
CALSCALE:GREGORIAN
METHOD:PUBLISH
X-ORIGINAL-URL:https://aeromodelismecalella.com
X-WR-CALDESC:Eventos para Club Aeromodelisme Calella-Maçanet
REFRESH-INTERVAL;VALUE=DURATION:PT1H
X-Robots-Tag:noindex
X-PUBLISHED-TTL:PT1H
BEGIN:VTIMEZONE
TZID:UTC
BEGIN:STANDARD
TZOFFSETFROM:+0000
TZOFFSETTO:+0000
TZNAME:UTC
DTSTART:20240101T000000
END:STANDARD
END:VTIMEZONE
BEGIN:VEVENT
DTSTART;TZID=UTC:20241215T080000
DTEND;TZID=UTC:20241215T130000
DTSTAMP:20260422T160636
CREATED:20240918T055922Z
LAST-MODIFIED:20241117T112211Z
UID:230-1734249600-1734267600@aeromodelismecalella.com
SUMMARY:FINAL Liga Catalana Pylon - Cursa d'Hivern
DESCRIPTION:Apreciados socios y amigos\, \nYa tenemos aquí la tradicional Cursa Pylon d’hivern! Este año es la 46ª edición y dará el pistoletazo final a la liga catalana 2024 organizado por la Federació Aèria Catalana. \n¡Animamos a todo el mundo a participar! \nLas inscripciones se realizan de manera Online en el siguiente link: INSCRIBETE AQUÍ! \nMás información sobre la carrera en: F3E-F3D Pilon Race | Federació Aèria Catalana \nGrupo de WhatsApp de la Liga Pylon: https://chat.whatsapp.com/EpslmReVkrQ1qr8Qi0epKP
URL:https://aeromodelismecalella.com/event/final-liga-catalana-pylon-cursa-dhivern/
LOCATION:Club Aeromodelisme Calella-Maçanet\, Maçanet de la Selva\, Girona
END:VEVENT
BEGIN:VEVENT
DTSTART;TZID=UTC:20241221T080000
DTEND;TZID=UTC:20241221T180000
DTSTAMP:20260422T160636
CREATED:20241117T110830Z
LAST-MODIFIED:20241117T110830Z
UID:297-1734768000-1734804000@aeromodelismecalella.com
SUMMARY:Prohibición de vuelo 21.12.2024
DESCRIPTION:Se informa a todos los socios que el próximo sábado 12 de diciembre de 2024 no estará permitido el vuelo en las instalaciones de nuestro club debido a un evento de cetrería próximo a nuestro campo de vuelo. \nDisculpad las molestias. \nSaludos\,
URL:https://aeromodelismecalella.com/event/prohibicion-de-vuelo-21-12-2024/
LOCATION:Girona
END:VEVENT
END:VCALENDAR