BEGIN:VCALENDAR
VERSION:2.0
PRODID:-//Club Aeromodelisme Calella-Maçanet - ECPv6.6.4.2//NONSGML v1.0//EN
CALSCALE:GREGORIAN
METHOD:PUBLISH
X-ORIGINAL-URL:https://aeromodelismecalella.com
X-WR-CALDESC:Eventos para Club Aeromodelisme Calella-Maçanet
REFRESH-INTERVAL;VALUE=DURATION:PT1H
X-Robots-Tag:noindex
X-PUBLISHED-TTL:PT1H
BEGIN:VTIMEZONE
TZID:UTC
BEGIN:STANDARD
TZOFFSETFROM:+0000
TZOFFSETTO:+0000
TZNAME:UTC
DTSTART:20250101T000000
END:STANDARD
END:VTIMEZONE
BEGIN:VEVENT
DTSTART;TZID=UTC:20250309T100000
DTEND;TZID=UTC:20250309T123000
DTSTAMP:20260422T114024
CREATED:20241223T141124Z
LAST-MODIFIED:20250222T180507Z
UID:309-1741514400-1741523400@aeromodelismecalella.com
SUMMARY:BBQ... Y VUELA!
DESCRIPTION:📢 BARBACOA Y VUELA 🚀🔥 \nAprovechando los últimos días antes de la prohibición de hacer fuego\, organizamos un gran encuentro para disfrutar del aeromodelismo como se debe. \n📅 Fecha: 9 de marzo⏰ Hora: 9:00h📍 Lugar: Campo de vuelo de Maçanet de la Selva \n¿Qué nos espera?✈️ Vuelos de todo tipo🎮 Vuelo en doble mando🛩️ Vuelo remolque😂 Risas aseguradas🔥 Y por supuesto… ¡una buena barbacoa! \nEl objetivo es reunirnos la mayor cantidad de socios posible\, compartir nuestra pasión y pasar un gran día. ¡No faltes! \nNota: Este evento es exclusivo para socios del club y socios de otros clubs que posean licencia FAC / Nacional. Si aún no tienes tu equipo listo o necesitas soporte técnico\, no dudes en contactar a la directiva antes del evento. \nA diferencia de otros eventos\, el club NO cubrirá el gasto de carne y bebidas en esta jornada en cuestión. Por este motivo\, cada socio deberá de llevar su propia carne. \nEs una excelente oportunidad para fortalecer lazos\, aprender de los demás y disfrutar de nuestra pasión común por el vuelo. ¡Te esperamos en el campo!
URL:https://aeromodelismecalella.com/event/dia-de-remolcada-de-veleros/
LOCATION:Club Aeromodelisme Calella-Maçanet\, Maçanet de la Selva\, Girona
ORGANIZER;CN="Club Aeromodelisme Calella-Ma%C3%A7anet":MAILTO:clubaeromodelismecalella@gmail.com
END:VEVENT
END:VCALENDAR